Workbook

Sheet Tugas Harian (I)
C1: Nama :
C2: Jawatan :
A4: Kod | B4: Bil | C4: Tarikh | D4: Hari | E4: Tugas | F4: Catatan
A5: =CONCATENATE(B5," ",C5) -> 1 43101 | B5: =I5 -> 1 | C5: 43101 | D5: =IF(ISBLANK(C5),"",CHOOSE(WEEKDAY(C5),"Ahad","Isnin","Selasa","Rabu","Khamis","Jumaat","Sabtu")) -> Isnin | E5: ORENTASI PELAJAR | G5: =IF(ISBLANK(C5),"",DAY(C5)&MONTH(C5)) -> 11 | H5: =IF(ISBLANK(C5),0,COUNTIF(G:G,G5)) -> 2 | I5: =IF(ISBLANK(C5),0,H5-(COUNTIF(G5:G$375,G5))+1) -> 1
A6: =CONCATENATE(B6," ",C6) -> 2 43101 | B6: =I6 -> 2 | C6: 43101 | D6: =IF(ISBLANK(C6),"",CHOOSE(WEEKDAY(C6),"Ahad","Isnin","Selasa","Rabu","Khamis","Jumaat","Sabtu")) -> Isnin | E6: MESYUARAT KOKURIKULUM | G6: =IF(ISBLANK(C6),"",DAY(C6)&MONTH(C6)) -> 11 | H6: =IF(ISBLANK(C6),0,COUNTIF(G:G,G6)) -> 2 | I6: =IF(ISBLANK(C6),0,H6-(COUNTIF(G6:G$375,G6))+1) -> 2
A7: =CONCATENATE(B7," ",C7) -> 0 | B7: =I7 -> 0 | D7: =IF(ISBLANK(C7),"",CHOOSE(WEEKDAY(C7),"Ahad","Isnin","Selasa","Rabu","Khamis","Jumaat","Sabtu")) | G7: =IF(ISBLANK(C7),"",DAY(C7)&MONTH(C7)) | H7: =IF(ISBLANK(C7),0,COUNTIF(G:G,G7)) -> 0 | I7: =IF(ISBLANK(C7),0,H7-(COUNTIF(G7:G$375,G7))+1) -> 0
A8: =CONCATENATE(B8," ",C8) -> 0 | B8: =I8 -> 0 | D8: =IF(ISBLANK(C8),"",CHOOSE(WEEKDAY(C8),"Ahad","Isnin","Selasa","Rabu","Khamis","Jumaat","Sabtu")) | G8: =IF(ISBLANK(C8),"",DAY(C8)&MONTH(C8)) | H8: =IF(ISBLANK(C8),0,COUNTIF(G:G,G8)) -> 0 | I8: =IF(ISBLANK(C8),0,H8-(COUNTIF(G8:G$375,G8))+1) -> 0
A9: =CONCATENATE(B9," ",C9) -> 0 | B9: =I9 -> 0 | D9: =IF(ISBLANK(C9),"",CHOOSE(WEEKDAY(C9),"Ahad","Isnin","Selasa","Rabu","Khamis","Jumaat","Sabtu")) | G9: =IF(ISBLANK(C9),"",DAY(C9)&MONTH(C9)) | H9: =IF(ISBLANK(C9),0,COUNTIF(G:G,G9)) -> 0 | I9: =IF(ISBLANK(C9),0,H9-(COUNTIF(G9:G$375,G9))+1) -> 0
A10: =CONCATENATE(B10," ",C10) -> 0 | B10: =I10 -> 0 | D10: =IF(ISBLANK(C10),"",CHOOSE(WEEKDAY(C10),"Ahad","Isnin","Selasa","Rabu","Khamis","Jumaat","Sabtu")) | G10: =IF(ISBLANK(C10),"",DAY(C10)&MONTH(C10)) | H10: =IF(ISBLANK(C10),0,COUNTIF(G:G,G10)) -> 0 | I10: =IF(ISBLANK(C10),0,H10-(COUNTIF(G10:G$375,G10))+1) -> 0
A11: =CONCATENATE(B11," ",C11) -> 0 | B11: =I11 -> 0 | D11: =IF(ISBLANK(C11),"",CHOOSE(WEEKDAY(C11),"Ahad","Isnin","Selasa","Rabu","Khamis","Jumaat","Sabtu")) | G11: =IF(ISBLANK(C11),"",DAY(C11)&MONTH(C11)) | H11: =IF(ISBLANK(C11),0,COUNTIF(G:G,G11)) -> 0 | I11: =IF(ISBLANK(C11),0,H11-(COUNTIF(G11:G$375,G11))+1) -> 0
A12: =CONCATENATE(B12," ",C12) -> 0 | B12: =I12 -> 0 | D12: =IF(ISBLANK(C12),"",CHOOSE(WEEKDAY(C12),"Ahad","Isnin","Selasa","Rabu","Khamis","Jumaat","Sabtu")) | G12: =IF(ISBLANK(C12),"",DAY(C12)&MONTH(C12)) | H12: =IF(ISBLANK(C12),0,COUNTIF(G:G,G12)) -> 0 | I12: =IF(ISBLANK(C12),0,H12-(COUNTIF(G12:G$375,G12))+1) -> 0
A13: =CONCATENATE(B13," ",C13) -> 0 | B13: =I13 -> 0 | D13: =IF(ISBLANK(C13),"",CHOOSE(WEEKDAY(C13),"Ahad","Isnin","Selasa","Rabu","Khamis","Jumaat","Sabtu")) | G13: =IF(ISBLANK(C13),"",DAY(C13)&MONTH(C13)) | H13: =IF(ISBLANK(C13),0,COUNTIF(G:G,G13)) -> 0 | I13: =IF(ISBLANK(C13),0,H13-(COUNTIF(G13:G$375,G13))+1) -> 0
A14: =CONCATENATE(B14," ",C14) -> 0 | B14: =I14 -> 0 | D14: =IF(ISBLANK(C14),"",CHOOSE(WEEKDAY(C14),"Ahad","Isnin","Selasa","Rabu","Khamis","Jumaat","Sabtu")) | G14: =IF(ISBLANK(C14),"",DAY(C14)&MONTH(C14)) | H14: =IF(ISBLANK(C14),0,COUNTIF(G:G,G14)) -> 0 | I14: =IF(ISBLANK(C14),0,H14-(COUNTIF(G14:G$375,G14))+1) -> 0
A15: =CONCATENATE(B15," ",C15) -> 0 | B15: =I15 -> 0 | D15: =IF(ISBLANK(C15),"",CHOOSE(WEEKDAY(C15),"Ahad","Isnin","Selasa","Rabu","Khamis","Jumaat","Sabtu")) | G15: =IF(ISBLANK(C15),"",DAY(C15)&MONTH(C15)) | H15: =IF(ISBLANK(C15),0,COUNTIF(G:G,G15)) -> 0 | I15: =IF(ISBLANK(C15),0,H15-(COUNTIF(G15:G$375,G15))+1) -> 0
A16: =CONCATENATE(B16," ",C16) -> 0 | B16: =I16 -> 0 | D16: =IF(ISBLANK(C16),"",CHOOSE(WEEKDAY(C16),"Ahad","Isnin","Selasa","Rabu","Khamis","Jumaat","Sabtu")) | G16: =IF(ISBLANK(C16),"",DAY(C16)&MONTH(C16)) | H16: =IF(ISBLANK(C16),0,COUNTIF(G:G,G16)) -> 0 | I16: =IF(ISBLANK(C16),0,H16-(COUNTIF(G16:G$375,G16))+1) -> 0
A17: =CONCATENATE(B17," ",C17) -> 0 | B17: =I17 -> 0 | D17: =IF(ISBLANK(C17),"",CHOOSE(WEEKDAY(C17),"Ahad","Isnin","Selasa","Rabu","Khamis","Jumaat","Sabtu")) | G17: =IF(ISBLANK(C17),"",DAY(C17)&MONTH(C17)) | H17: =IF(ISBLANK(C17),0,COUNTIF(G:G,G17)) -> 0 | I17: =IF(ISBLANK(C17),0,H17-(COUNTIF(G17:G$375,G17))+1) -> 0
A18: =CONCATENATE(B18," ",C18) -> 0 | B18: =I18 -> 0 | D18: =IF(ISBLANK(C18),"",CHOOSE(WEEKDAY(C18),"Ahad","Isnin","Selasa","Rabu","Khamis","Jumaat","Sabtu")) | G18: =IF(ISBLANK(C18),"",DAY(C18)&MONTH(C18)) | H18: =IF(ISBLANK(C18),0,COUNTIF(G:G,G18)) -> 0 | I18: =IF(ISBLANK(C18),0,H18-(COUNTIF(G18:G$375,G18))+1) -> 0
... A375: =CONCATENATE(B375," ",C375) -> 0 | B375: =I375 -> 0 | D375: =IF(ISBLANK(C375),"",CHOOSE(WEEKDAY(C375),"Ahad","Isnin","Selasa","Rabu","Khamis","Jumaat","Sabtu")) | G375: =IF(ISBLANK(C375),"",DAY(C375)&MONTH(C375)) | H375: =IF(ISBLANK(C375),0,COUNTIF(G:G,G375)) -> 0 | I375: =IF(ISBLANK(C375),0,H375-(COUNTIF(G375:G$375,G375))+1) -> 0
A376: =CONCATENATE(B376," ",C376) -> 0 | B376: =I376 -> 0 | D376: =IF(ISBLANK(C376),"",CHOOSE(WEEKDAY(C376),"Ahad","Isnin","Selasa","Rabu","Khamis","Jumaat","Sabtu")) | G376: =IF(ISBLANK(C376),"",DAY(C376)&MONTH(C376)) | H376: =IF(ISBLANK(C376),0,COUNTIF(G:G,G376)) -> 0 | I376: =IF(ISBLANK(C376),0,H376-(COUNTIF(G$375:G376,G376))+1) -> 0
A377: =CONCATENATE(B377," ",C377) -> 0 | B377: =I377 -> 0 | D377: =IF(ISBLANK(C377),"",CHOOSE(WEEKDAY(C377),"Ahad","Isnin","Selasa","Rabu","Khamis","Jumaat","Sabtu")) | G377: =IF(ISBLANK(C377),"",DAY(C377)&MONTH(C377)) | H377: =IF(ISBLANK(C377),0,COUNTIF(G:G,G377)) -> 0 | I377: =IF(ISBLANK(C377),0,H377-(COUNTIF(G$375:G377,G377))+1) -> 0
A378: =CONCATENATE(B378," ",C378) -> 0 | B378: =I378 -> 0 | D378: =IF(ISBLANK(C378),"",CHOOSE(WEEKDAY(C378),"Ahad","Isnin","Selasa","Rabu","Khamis","Jumaat","Sabtu")) | G378: =IF(ISBLANK(C378),"",DAY(C378)&MONTH(C378)) | H378: =IF(ISBLANK(C378),0,COUNTIF(G:G,G378)) -> 0 | I378: =IF(ISBLANK(C378),0,H378-(COUNTIF(G$375:G378,G378))+1) -> 0
A379: =CONCATENATE(B379," ",C379) -> 0 | B379: =I379 -> 0 | D379: =IF(ISBLANK(C379),"",CHOOSE(WEEKDAY(C379),"Ahad","Isnin","Selasa","Rabu","Khamis","Jumaat","Sabtu")) | G379: =IF(ISBLANK(C379),"",DAY(C379)&MONTH(C379)) | H379: =IF(ISBLANK(C379),0,COUNTIF(G:G,G379)) -> 0 | I379: =IF(ISBLANK(C379),0,H379-(COUNTIF(G$375:G379,G379))+1) -> 0
A380: =CONCATENATE(B380," ",C380) -> 0 | B380: =I380 -> 0 | D380: =IF(ISBLANK(C380),"",CHOOSE(WEEKDAY(C380),"Ahad","Isnin","Selasa","Rabu","Khamis","Jumaat","Sabtu")) | G380: =IF(ISBLANK(C380),"",DAY(C380)&MONTH(C380)) | H380: =IF(ISBLANK(C380),0,COUNTIF(G:G,G380)) -> 0 | I380: =IF(ISBLANK(C380),0,H380-(COUNTIF(G$375:G380,G380))+1) -> 0
A381: =CONCATENATE(B381," ",C381) -> 0 | B381: =I381 -> 0 | D381: =IF(ISBLANK(C381),"",CHOOSE(WEEKDAY(C381),"Ahad","Isnin","Selasa","Rabu","Khamis","Jumaat","Sabtu")) | G381: =IF(ISBLANK(C381),"",DAY(C381)&MONTH(C381)) | H381: =IF(ISBLANK(C381),0,COUNTIF(G:G,G381)) -> 0 | I381: =IF(ISBLANK(C381),0,H381-(COUNTIF(G$375:G381,G381))+1) -> 0
A382: =CONCATENATE(B382," ",C382) -> 0 | B382: =I382 -> 0 | D382: =IF(ISBLANK(C382),"",CHOOSE(WEEKDAY(C382),"Ahad","Isnin","Selasa","Rabu","Khamis","Jumaat","Sabtu")) | G382: =IF(ISBLANK(C382),"",DAY(C382)&MONTH(C382)) | H382: =IF(ISBLANK(C382),0,COUNTIF(G:G,G382)) -> 0 | I382: =IF(ISBLANK(C382),0,H382-(COUNTIF(G$375:G382,G382))+1) -> 0
A383: =CONCATENATE(B383," ",C383) -> 0 | B383: =I383 -> 0 | D383: =IF(ISBLANK(C383),"",CHOOSE(WEEKDAY(C383),"Ahad","Isnin","Selasa","Rabu","Khamis","Jumaat","Sabtu")) | G383: =IF(ISBLANK(C383),"",DAY(C383)&MONTH(C383)) | H383: =IF(ISBLANK(C383),0,COUNTIF(G:G,G383)) -> 0 | I383: =IF(ISBLANK(C383),0,H383-(COUNTIF(G$375:G383,G383))+1) -> 0
A384: =CONCATENATE(B384," ",C384) -> 0 | B384: =I384 -> 0 | D384: =IF(ISBLANK(C384),"",CHOOSE(WEEKDAY(C384),"Ahad","Isnin","Selasa","Rabu","Khamis","Jumaat","Sabtu")) | G384: =IF(ISBLANK(C384),"",DAY(C384)&MONTH(C384)) | H384: =IF(ISBLANK(C384),0,COUNTIF(G:G,G384)) -> 0 | I384: =IF(ISBLANK(C384),0,H384-(COUNTIF(G$375:G384,G384))+1) -> 0
A385: =CONCATENATE(B385," ",C385) -> 0 | B385: =I385 -> 0 | D385: =IF(ISBLANK(C385),"",CHOOSE(WEEKDAY(C385),"Ahad","Isnin","Selasa","Rabu","Khamis","Jumaat","Sabtu")) | G385: =IF(ISBLANK(C385),"",DAY(C385)&MONTH(C385)) | H385: =IF(ISBLANK(C385),0,COUNTIF(G:G,G385)) -> 0 | I385: =IF(ISBLANK(C385),0,H385-(COUNTIF(G$375:G385,G385))+1) -> 0
A386: =CONCATENATE(B386," ",C386) -> 0 | B386: =I386 -> 0 | D386: =IF(ISBLANK(C386),"",CHOOSE(WEEKDAY(C386),"Ahad","Isnin","Selasa","Rabu","Khamis","Jumaat","Sabtu")) | G386: =IF(ISBLANK(C386),"",DAY(C386)&MONTH(C386)) | H386: =IF(ISBLANK(C386),0,COUNTIF(G:G,G386)) -> 0 | I386: =IF(ISBLANK(C386),0,H386-(COUNTIF(G$375:G386,G386))+1) -> 0
A387: =CONCATENATE(B387," ",C387) -> 0 | B387: =I387 -> 0 | D387: =IF(ISBLANK(C387),"",CHOOSE(WEEKDAY(C387),"Ahad","Isnin","Selasa","Rabu","Khamis","Jumaat","Sabtu")) | G387: =IF(ISBLANK(C387),"",DAY(C387)&MONTH(C387)) | H387: =IF(ISBLANK(C387),0,COUNTIF(G:G,G387)) -> 0 | I387: =IF(ISBLANK(C387),0,H387-(COUNTIF(G$375:G387,G387))+1) -> 0
... A3650: =CONCATENATE(B3650," ",C3650) -> 0 | B3650: =I3650 -> 0 | D3650: =IF(ISBLANK(C3650),"",CHOOSE(WEEKDAY(C3650),"Ahad","Isnin","Selasa","Rabu","Khamis","Jumaat","Sabtu")) | G3650: =IF(ISBLANK(C3650),"",DAY(C3650)&MONTH(C3650)) | H3650: =IF(ISBLANK(C3650),0,COUNTIF(G:G,G3650)) -> 0 | I3650: =IF(ISBLANK(C3650),0,H3650-(COUNTIF(G$375:G3650,G3650))+1) -> 0

Sheet Tugas Harian (O)
E1: Senarai Tugas Harian Fail Meja 2018
E3: ="Nama Pegawai : "&'Tugas Harian (I)'!E1 -> Nama Pegawai :
E4: ="Jawatan : "&'Tugas Harian (I)'!E2 -> Jawatan :
E5: Tarikh : | F5: 43101 | G5: =IF(ISBLANK(F5),"","("&CHOOSE(WEEKDAY(F5),"Ahad","Isnin","Selasa","Rabu","Khamis","Jumaat","Sabtu")&")") -> (Isnin) | H5: [Masukkan Tarikh bagi tujuan cetakan tugas pada tarikh tersebut.]
E6: Bil | F6: Butir-Butir Tugas | G6: Catatan
A7: =CONCATENATE(B7," ",$F$5) -> 1 43101 | B7: 1 | C7: =VLOOKUP(A7,'Tugas Harian (I)'!$A:$F,5,FALSE) -> ORENTASI PELAJAR | D7: =VLOOKUP(A7,'Tugas Harian (I)'!$A:$F,6,FALSE) -> 0 | E7: =IF(F7="","",1) -> 1 | F7: =IF(ISERROR(C7),"",C7) -> ORENTASI PELAJAR | G7: =IF(ISTEXT(D7),D7,"")
A8: =CONCATENATE(B8," ",$F$5) -> 2 43101 | B8: 2 | C8: =VLOOKUP(A8,'Tugas Harian (I)'!$A:$F,5,FALSE) -> MESYUARAT KOKURIKULUM | D8: =VLOOKUP(A8,'Tugas Harian (I)'!$A:$F,6,FALSE) -> 0 | E8: =IF(F8="","",1+E7) -> 2 | F8: =IF(ISERROR(C8),"",C8) -> MESYUARAT KOKURIKULUM | G8: =IF(ISTEXT(D8),D8,"")
A9: =CONCATENATE(B9," ",$F$5) -> 3 43101 | B9: 3 | C9: =VLOOKUP(A9,'Tugas Harian (I)'!$A:$F,5,FALSE) -> #N/A | D9: =VLOOKUP(A9,'Tugas Harian (I)'!$A:$F,6,FALSE) -> #N/A | E9: =IF(F9="","",1+E8) | F9: =IF(ISERROR(C9),"",C9) | G9: =IF(ISTEXT(D9),D9,"")
A10: =CONCATENATE(B10," ",$F$5) -> 4 43101 | B10: 4 | C10: =VLOOKUP(A10,'Tugas Harian (I)'!$A:$F,5,FALSE) -> #N/A | D10: =VLOOKUP(A10,'Tugas Harian (I)'!$A:$F,6,FALSE) -> #N/A | E10: =IF(F10="","",1+E9) | F10: =IF(ISERROR(C10),"",C10) | G10: =IF(ISTEXT(D10),D10,"")
A11: =CONCATENATE(B11," ",$F$5) -> 5 43101 | B11: 5 | C11: =VLOOKUP(A11,'Tugas Harian (I)'!$A:$F,5,FALSE) -> #N/A | D11: =VLOOKUP(A11,'Tugas Harian (I)'!$A:$F,6,FALSE) -> #N/A | E11: =IF(F11="","",1+E10) | F11: =IF(ISERROR(C11),"",C11) | G11: =IF(ISTEXT(D11),D11,"")
A12: =CONCATENATE(B12," ",$F$5) -> 6 43101 | B12: 6 | C12: =VLOOKUP(A12,'Tugas Harian (I)'!$A:$F,5,FALSE) -> #N/A | D12: =VLOOKUP(A12,'Tugas Harian (I)'!$A:$F,6,FALSE) -> #N/A | E12: =IF(F12="","",1+E11) | F12: =IF(ISERROR(C12),"",C12) | G12: =IF(ISTEXT(D12),D12,"")
A13: =CONCATENATE(B13," ",$F$5) -> 7 43101 | B13: 7 | C13: =VLOOKUP(A13,'Tugas Harian (I)'!$A:$F,5,FALSE) -> #N/A | D13: =VLOOKUP(A13,'Tugas Harian (I)'!$A:$F,6,FALSE) -> #N/A | E13: =IF(F13="","",1+E12) | F13: =IF(ISERROR(C13),"",C13) | G13: =IF(ISTEXT(D13),D13,"")
A14: =CONCATENATE(B14," ",$F$5) -> 8 43101 | B14: 8 | C14: =VLOOKUP(A14,'Tugas Harian (I)'!$A:$F,5,FALSE) -> #N/A | D14: =VLOOKUP(A14,'Tugas Harian (I)'!$A:$F,6,FALSE) -> #N/A | E14: =IF(F14="","",1+E13) | F14: =IF(ISERROR(C14),"",C14) | G14: =IF(ISTEXT(D14),D14,"")
A15: =CONCATENATE(B15," ",$F$5) -> 9 43101 | B15: 9 | C15: =VLOOKUP(A15,'Tugas Harian (I)'!$A:$F,5,FALSE) -> #N/A | D15: =VLOOKUP(A15,'Tugas Harian (I)'!$A:$F,6,FALSE) -> #N/A | E15: =IF(F15="","",1+E14) | F15: =IF(ISERROR(C15),"",C15) | G15: =IF(ISTEXT(D15),D15,"")
A16: =CONCATENATE(B16," ",$F$5) -> 10 43101 | B16: 10 | C16: =VLOOKUP(A16,'Tugas Harian (I)'!$A:$F,5,FALSE) -> #N/A | D16: =VLOOKUP(A16,'Tugas Harian (I)'!$A:$F,6,FALSE) -> #N/A | E16: =IF(F16="","",1+E15) | F16: =IF(ISERROR(C16),"",C16) | G16: =IF(ISTEXT(D16),D16,"")

Sheet SenaraiTugas
A1: SENARAI TUGAS [MASUKKAN NAMA JAWATAN]
A3: BIL | B3: TUGAS | C3: PENERANGAN | D3: PEGAWAI TERLIBAT | E3: KEKERAPAN/TARIKH
A5: =IF(ISBLANK(B5),"",1)
A6: =IF(ISBLANK(B6),"",1+A5)
A7: =IF(ISBLANK(B7),"",1+A6)
A8: =IF(ISBLANK(B8),"",1+A7)
A9: =IF(ISBLANK(B9),"",1+A8)
A10: =IF(ISBLANK(B10),"",1+A9)
A11: =IF(ISBLANK(B11),"",1+A10)
A12: =IF(ISBLANK(B12),"",1+A11)
A13: =IF(ISBLANK(B13),"",1+A12)
A14: =IF(ISBLANK(B14),"",1+A13)
A15: =IF(ISBLANK(B15),"",1+A14)
A16: =IF(ISBLANK(B16),"",1+A15)
A17: 13
A18: 14
A19: 15
A20: =IF(ISBLANK(B20),"",1+A19)
A21: 17
A22: 18
A23: 19
A24: 20
A25: 21
A26: =IF(ISBLANK(B26),"",1+A25)
A27: =IF(ISBLANK(B27),"",1+A26)
A28: =IF(ISBLANK(B28),"",1+A27)
A29: =IF(ISBLANK(B29),"",1+A28)
A30: =IF(ISBLANK(B30),"",1+A29)
A31: =IF(ISBLANK(B31),"",1+A30)
A32: =IF(ISBLANK(B32),"",1+A31)
A33: =IF(ISBLANK(B33),"",1+A32)
A34: =IF(ISBLANK(B34),"",1+A33)
A35: =IF(ISBLANK(B35),"",1+A34)
A36: =IF(ISBLANK(B36),"",1+A35)
A37: =IF(ISBLANK(B37),"",1+A36)
... A40: =IF(ISBLANK(B40),"",1+A39)
